BEGIN:VCALENDAR
VERSION:2.0
PRODID:-//wp-events-plugin.com//7.2.3.1//EN
TZID:America/New_York
X-WR-TIMEZONE:America/New_York
BEGIN:VEVENT
UID:82@goalloutbroome.com
DTSTART:20190331T130000Z
DTEND:20190331T190000Z
DTSTAMP:20190225T211417Z
URL:https://goalloutbroome.com/events/cutler-flea-market/
SUMMARY:The Cutler Flea Market
DESCRIPTION:A Curated Indoor Market of \n\nQuality Antiques\, Vintage Colle
 ctibles\n\n And One-of-a-Kind Artisan Finds with Select Food and Beverage
  Vendors
ATTACH;FMTTYPE=image/jpeg:https://goalloutbroome.com/wp-content/uploads/20
 19/02/Cutler-FLea-image3-1.jpg
LOCATION:Broome Count Regional Farmers Market\, 840 Front Street\, Binghamt
 on\, NY\, 13905\, agritourism\, United States
GEO:42.128713;-75.905503
X-APPLE-STRUCTURED-LOCATION;VALUE=URI;X-ADDRESS=840 Front Street\, Binghamt
 on\, NY\, 13905\, agritourism\, United States;X-APPLE-RADIUS=100;X-TITLE=B
 roome Count Regional Farmers Market:geo:42.128713,-75.905503
END:VEVENT
END:VCALENDAR